BEGIN:VCALENDAR
VERSION:2.0
PRODID:TU Chemnitz
METHOD:PUBLISH
X-WR-CALNAME:Veranstaltungen der TU Chemnitz
X-WR-TIMEZONE:Europe/Berlin
BEGIN:VEVENT
CLASS:PUBLIC
DTSTART;VALUE=DATE:20190930
DTEND;VALUE=DATE:20191002
LOCATION:Reichenhainer Str. 70\, Chemnitz (Weinhold-Bau)
SUMMARY:Vorbereitungskurs Statistik für BA-Studierende (3. Semester) Fakultät für Wirtschaftswissenschaften  (Fakultät für Wirtschaftswissenschaften\, TU4U)
DESCRIPTION:Der Brückenkurs richtet sich an BA-Studierende an der Fakultät für Wirtschaftswissenschaften\, die sich auf die Lehrveranstaltung Statistik im 3. Semester vorbereiten möchten. Kurs: 30.09.-02.10.2019 (9:00-12:00 Uhr).\nAndrea Hertel\,  +49 371 531-38817\, andrea.hertel@wirtschaft.tu-chemnitz.de
ORGANIZER:MAILTO:diana.heinbucher@verwaltung.tu-chemnitz.de
UID:20789@www.tu-chemnitz.de
CREATED:20190801T111600Z
DTSTAMP:20210802T185115Z
END:VEVENT
END:VCALENDAR
