BEGIN:VCALENDAR
VERSION:2.0
PRODID:TU Chemnitz
METHOD:PUBLISH
X-WR-CALNAME:Veranstaltungen der TU Chemnitz
X-WR-TIMEZONE:Europe/Berlin
BEGIN:VEVENT
CLASS:PUBLIC
DTSTART;VALUE=DATE:20190930
DTEND;VALUE=DATE:20191002
LOCATION:Str. der Nationen 62\, Chemnitz (Böttcher-Bau)
SUMMARY:Vorbereitungskurs Informatik (Fakultät für Informatik\, TU4U)
DESCRIPTION:Der Brückenkurs richtet sich an alle Der Vorbereitungskurs richtet sich an alle Studienanfänger/-innen (BA und MA IFG) an der Fakultät für Informatik. Kurs: 30.09.-02.10.2019 (jeweils von 9:00-15:00 Uhr).\nAndrea Hertel\,  +49 371 531-38817\, andrea.hertel@wirtschaft.tu-chemnitz.de
ORGANIZER:MAILTO:diana.heinbucher@verwaltung.tu-chemnitz.de
UID:20785@www.tu-chemnitz.de
CREATED:20190801T102900Z
DTSTAMP:20210802T185119Z
END:VEVENT
END:VCALENDAR
