BEGIN:VCALENDAR
VERSION:2.0
PRODID:TU Chemnitz
METHOD:PUBLISH
X-WR-CALNAME:Veranstaltungen der TU Chemnitz
X-WR-TIMEZONE:Europe/Berlin
BEGIN:VEVENT
CLASS:PUBLIC
DTSTART;TZID="Europe/Berlin":20190115T134500
DTEND;TZID="Europe/Berlin":20190115T170000
LOCATION:Reichenhainer Str. 70\, Chemnitz (Rühlmann-Bau)
SUMMARY:Eine praktische Einführung in XSLT\, Teil 1 von 2 (Universitätsrechenzentrum)
DESCRIPTION:Ziel des Kurses ist\, selbständig XSLT-Stylesheets entwerfen zu können: Einführung in XPath und in die Transformation mit/ohne FOP und praktische Anwendung bei Erstellung und Debugging eines XSLT-Stylesheets. Voraussetzung: XML-Grundkenntnisse\nV. Straube\nAnmeldung über OPAL: https://mytuc.org/lxbm
ORGANIZER:MAILTO:antje.schreiber@hrz.tu-chemnitz.de
UID:20733@www.tu-chemnitz.de
CREATED:20190624T152900Z
DTSTAMP:20210802T190226Z
END:VEVENT
END:VCALENDAR
