BEGIN:VCALENDAR
VERSION:2.0
PRODID:TU Chemnitz
METHOD:PUBLISH
X-WR-CALNAME:Veranstaltungen der TU Chemnitz
X-WR-TIMEZONE:Europe/Berlin
BEGIN:VEVENT
CLASS:PUBLIC
DTSTART;TZID="Europe/Berlin":20190625T171500
DTEND;TZID="Europe/Berlin":20190625T184500
LOCATION:Str. der Nationen 62\, Chemnitz (Böttcher-Bau)
SUMMARY:Gastseminar „Nach dem Referendum und vor dem Gerichtsurteil: Aktuelle politische Lage in Katalonien“ (TU Chemnitz\, Professur Kultureller und Sozialer Wandel)
DESCRIPTION:Was ist in Katalonien seit dem Unabhängigkeitsreferendum am 1. Oktober 2017 passiert? Das Seminar gibt Antwort auf verschiedene Fragen und bietet Raum für die Diskussion und den Austausch mit den Studierenden.\nDr. Núria Codina\, KU Leuven\nteresa.pinheiro@phil.tu-chemnitz.de
ORGANIZER:MAILTO:ana.troncoso@phil.tu-chemnitz.de
UID:20727@www.tu-chemnitz.de
CREATED:20190617T155500Z
DTSTAMP:20210802T185520Z
END:VEVENT
END:VCALENDAR
