BEGIN:VCALENDAR
VERSION:2.0
PRODID:TU Chemnitz
METHOD:PUBLISH
X-WR-CALNAME:Veranstaltungen der TU Chemnitz
X-WR-TIMEZONE:Europe/Berlin
BEGIN:VEVENT
CLASS:PUBLIC
DTSTART;TZID="Europe/Berlin":20190617T091500
DTEND;TZID="Europe/Berlin":20190617T104500
LOCATION:Str. der Nationen 62\, Chemnitz (Böttcher-Bau)
SUMMARY:Imperium auf dem Rückflug: Das Ende des portugiesischen Kolonialreichs und die „retornados“ (Philosophische Fakultät\, Kultureller und Sozialer Wandel)
DESCRIPTION:Zwischen 1974 und 1979 erreichten ca. 800 000 Migrant*innen\, vor allem aus Angola und Mosambik\, das von der Nelkenrevolution durchgerüttelte Portugal. Die Motive ihrer Wanderung sowie die Modalitäten ihrer Integration werden im Gastvortrag beleuchtet.\nDr. Christoph Kalter\nProf. Teresa Pinheiro 
ORGANIZER:MAILTO:ana.troncoso@phil.tu-chemnitz.de
UID:20710@www.tu-chemnitz.de
CREATED:20190607T130700Z
DTSTAMP:20210802T185523Z
END:VEVENT
END:VCALENDAR
