BEGIN:VCALENDAR
VERSION:2.0
PRODID:TU Chemnitz
METHOD:PUBLISH
X-WR-CALNAME:Veranstaltungen der TU Chemnitz
X-WR-TIMEZONE:Europe/Berlin
BEGIN:VEVENT
CLASS:PUBLIC
DTSTART;TZID="Europe/Berlin":20190624T173000
DTEND;TZID="Europe/Berlin":20190624T185000
LOCATION:EDC Electronic Design Chemnitz GmbH\, Technologie-Campus 4\, 09126 Chemnitz
SUMMARY:„Forschung nutzbar machen“: Ansatzpunkte zur Finanzierung wissenschaftlicher Arbeit (Zentrum für Wissens- und Technologietransfer\, Gründernetzwerk SAXEED)
DESCRIPTION:Die Abendveranstaltung richtet sich an alle\, die Förderprogramme & Möglichkeiten zur Finanzierung wissenschaftlicher Projekte für die Karriereoptionen FORSCHEN und GRÜNDEN suchen.\nGründungsprojekte EcoWASP\, SelfSeal & 3dvisionlabs (TU Chemnitz & TU Freiberg); Technologiegründerfonds Sachsen\, SAXEED\nhttps://www.saxeed.net/termin/infoveranstaltung
ORGANIZER:MAILTO:jana.mitschke@saxeed.net
UID:20707@www.tu-chemnitz.de
CREATED:20190606T143900Z
DTSTAMP:20210802T185511Z
END:VEVENT
END:VCALENDAR
