BEGIN:VCALENDAR
VERSION:2.0
PRODID:TU Chemnitz
METHOD:PUBLISH
X-WR-CALNAME:Veranstaltungen der TU Chemnitz
X-WR-TIMEZONE:Europe/Berlin
BEGIN:VEVENT
CLASS:PUBLIC
DTSTART;TZID="Europe/Berlin":20190626T160000
DTEND;TZID="Europe/Berlin":20190626T173000
LOCATION:Reichenhainer Str. 90\, Chemnitz (Zentr. Hörsaal- und Seminargebäude)
SUMMARY:Physikalisches Kolloquium (Fakultät für Naturwissenschaften\, Institut für Physik)
DESCRIPTION:Thema: "Spin textures and spin waves as seen by x-ray microscopy"\nDr. Sebastian Wintz (Max-Planck-Institut für Intelligente Systeme)\nProf. Dr. Olav Hellwig (Tel.: 0371 531 30521\, olav.hellwig@physik.tu-chemnitz.de)
ORGANIZER:MAILTO:annku@hrz.tu-chemnitz.de
UID:20701@www.tu-chemnitz.de
CREATED:20190605T093400Z
DTSTAMP:20210802T185517Z
END:VEVENT
END:VCALENDAR
