BEGIN:VCALENDAR
VERSION:2.0
PRODID:TU Chemnitz
METHOD:PUBLISH
X-WR-CALNAME:Veranstaltungen der TU Chemnitz
X-WR-TIMEZONE:Europe/Berlin
BEGIN:VEVENT
CLASS:PUBLIC
DTSTART;TZID="Europe/Berlin":20190616T103000
DTEND;TZID="Europe/Berlin":20190616T113000
LOCATION:Reichenhainer Str. 90\, Chemnitz (Zentr. Hörsaal- und Seminargebäude)
SUMMARY:Kinder-Uni Chemnitz: Können sich Menschen in der Zukunft Superkräfte kaufen? (Zentrum für Wissens- und Technologietransfer\, Kinder-Uni Chemnitz)
DESCRIPTION:Ersatzteile für den menschlichen Körper stehen im Fokus. Was können sie bereits heute leisten und sind sie besser als das Original?\nProf. Dr. Bertolt Meyer\, TU Chemnitz\nBrita Stingl\, 0371 531-36036\, kinderuni@tu-chemnitz.de
ORGANIZER:MAILTO:brita.stingl@verwaltung.tu-chemnitz.de
UID:20699@www.tu-chemnitz.de
CREATED:20190605T090200Z
DTSTAMP:20210802T185515Z
END:VEVENT
END:VCALENDAR
