BEGIN:VCALENDAR
VERSION:2.0
PRODID:TU Chemnitz
METHOD:PUBLISH
X-WR-CALNAME:Veranstaltungen der TU Chemnitz
X-WR-TIMEZONE:Europe/Berlin
BEGIN:VEVENT
CLASS:PUBLIC
DTSTART;TZID="Europe/Berlin":20190627T180000
DTEND;TZID="Europe/Berlin":20190627T200000
LOCATION:Reichenhainer Str. 70\, Chemnitz (Weinhold-Bau)
SUMMARY:Gastvortrag von Angelika Redder: Mehrsprachiges Handeln - Konzept und Praxis (Philosophische Fakultät\, Deutsch als Fremd- und Zweitsprache)
DESCRIPTION:Prof. Dr. Angelika Redder\nkeine Anmeldung nötig\, Fragen an: annemarie.huelsmann@phil.tu-chemnitz.de
ORGANIZER:MAILTO:annemarie.huelsmann@phil.tu-chemnitz.de
UID:20696@www.tu-chemnitz.de
CREATED:20190603T155600Z
DTSTAMP:20210802T185512Z
END:VEVENT
END:VCALENDAR
