BEGIN:VCALENDAR
VERSION:2.0
PRODID:TU Chemnitz
METHOD:PUBLISH
X-WR-CALNAME:Veranstaltungen der TU Chemnitz
X-WR-TIMEZONE:Europe/Berlin
BEGIN:VEVENT
CLASS:PUBLIC
DTSTART;TZID="Europe/Berlin":20020206T213000
DTEND;TZID="Europe/Berlin":20020207T020000
LOCATION:Reichenhainer Str. 37\, Keller
SUMMARY:Mittwochsdisco im PEB-Studentenkeller (PEB-Studentenkeller)
DESCRIPTION:Mittwoch ist Partytag!\nWie immer gibts auch die besten Cocktails\,\nEintritt nur 0.80 EUR.\npeb-club@tu-chemnitz.de
ORGANIZER:MAILTO:cobr@hrz.tu-chemnitz.de
UID:2068@www.tu-chemnitz.de
CREATED:20020205T094500Z
DTSTAMP:20210802T202600Z
END:VEVENT
END:VCALENDAR
