BEGIN:VCALENDAR
VERSION:2.0
PRODID:TU Chemnitz
METHOD:PUBLISH
X-WR-CALNAME:Veranstaltungen der TU Chemnitz
X-WR-TIMEZONE:Europe/Berlin
BEGIN:VEVENT
CLASS:PUBLIC
DTSTART;TZID="Europe/Berlin":20190604T180000
DTEND;TZID="Europe/Berlin":20190604T200000
LOCATION:Waisenstr. 11\, 09111 Chemnitz
SUMMARY:Führung durch den Irrgarten der deutschen Sprache (Studentenverbindung Teutonia zu Chemnitz und Gummersbach)
DESCRIPTION:Stilblüten\, Kurioses und die Frage "Warum schreibt man was wie?". Auch tauglich für Klausur- und Hausarbeitenvorbereitung.\nKay Nagel-Werner\nInfos unter www.stv-teutonia.de\, Anmeldung nicht erforderlich
ORGANIZER:MAILTO:marian.bertz@s2007.tu-chemnitz.de
UID:20672@www.tu-chemnitz.de
CREATED:20190522T204500Z
DTSTAMP:20210802T185510Z
END:VEVENT
END:VCALENDAR
