BEGIN:VCALENDAR
VERSION:2.0
PRODID:TU Chemnitz
METHOD:PUBLISH
X-WR-CALNAME:Veranstaltungen der TU Chemnitz
X-WR-TIMEZONE:Europe/Berlin
BEGIN:VEVENT
CLASS:PUBLIC
DTSTART;TZID="Europe/Berlin":20190529T180000
DTEND;TZID="Europe/Berlin":20190529T200000
LOCATION:smac
SUMMARY:Die deutsche Polonia - Traditionen\, Netzwerk und aktuelle Probleme (Philosophische Fakultät\, Institut für Europäische Studien und Geschichtswissenschaften (IESG))
DESCRIPTION:Migration in Geschichte und Gegenwart - Öffentliche Ringvorlesung des IESG der TUC in Kooperation mit dem smac - Staatliches Museum für Archäologie Chemnitz.\nProf. Dr. Stefan Garsztecki\, Professur Kultur- und Länderstudien Ostmitteleuropas\nines.goerg@phil.tu-chemnitz.de
ORGANIZER:MAILTO:maj-britt.krone@s2012.tu-chemnitz.de
UID:20665@www.tu-chemnitz.de
CREATED:20190521T180700Z
DTSTAMP:20210802T185620Z
END:VEVENT
END:VCALENDAR
