BEGIN:VCALENDAR
VERSION:2.0
PRODID:TU Chemnitz
METHOD:PUBLISH
X-WR-CALNAME:Veranstaltungen der TU Chemnitz
X-WR-TIMEZONE:Europe/Berlin
BEGIN:VEVENT
CLASS:PUBLIC
DTSTART;TZID="Europe/Berlin":20190703T090000
DTEND;TZID="Europe/Berlin":20190703T140000
LOCATION:Reichenhainer Straße 70\, Gebäude M\, Raum M001
SUMMARY:Workshop "Nachbearbeitung additiv gefertigter Werkstücke" (Fakultät für Maschinenbau\, Professur Werkzeugmaschinenkonstruktion und Umformtechnik)
DESCRIPTION:Da die Anforderungen an additiv gefertigte Werkstücke hinsichtlich ihrer Qualität oftmals nicht erfüllt werden können\, ist eine Nachbearbeitung erforderlich.Tauschen Sie sich mit Vertretern aus Industrie und Wissenschaft dazu aus. Teilnahme: kostenfrei\nHerr Marco Posdzich\, Tel. 0371 531-30077\, E-Mail: marco.posdzich@mb.tu-chemnitz.de
ORGANIZER:MAILTO:katja.kloeden@mb.tu-chemnitz.de
UID:20645@www.tu-chemnitz.de
CREATED:20190513T140000Z
DTSTAMP:20210802T185420Z
END:VEVENT
END:VCALENDAR
