BEGIN:VCALENDAR
VERSION:2.0
PRODID:TU Chemnitz
METHOD:PUBLISH
X-WR-CALNAME:Veranstaltungen der TU Chemnitz
X-WR-TIMEZONE:Europe/Berlin
BEGIN:VEVENT
CLASS:PUBLIC
DTSTART;TZID="Europe/Berlin":20020212T210000
DTEND;TZID="Europe/Berlin":20020212T230000
LOCATION:Reichenhainer Str.35/37 Keller 09126 Chemnitz
SUMMARY:Filmclub mittendrin: Nachtwache (Filmclub mittendrin)
DESCRIPTION:Die Kunst des Grusels perfekt umgesetzt in Ole Bornedal sensationellen Thriller. (DK 1994)
ORGANIZER:MAILTO:fuh@hrz.tu-chemnitz.de
UID:2063@www.tu-chemnitz.de
CREATED:20020201T182000Z
DTSTAMP:20210802T202604Z
END:VEVENT
END:VCALENDAR
