BEGIN:VCALENDAR
VERSION:2.0
PRODID:TU Chemnitz
METHOD:PUBLISH
X-WR-CALNAME:Veranstaltungen der TU Chemnitz
X-WR-TIMEZONE:Europe/Berlin
BEGIN:VEVENT
CLASS:PUBLIC
DTSTART;TZID="Europe/Berlin":20190508T173000
DTEND;TZID="Europe/Berlin":20190508T193000
LOCATION:Reichenhainer Str. 90\, Chemnitz (Zentr. Hörsaal- und Seminargebäude)
SUMMARY:DER TALK - Podiumsdiskussion zur Europawahl (Philosophische Fakultät\, Initiative Europastudien e.V.)
DESCRIPTION:Im Vorfeld der Europwahl organisiert die Initiative Europastudien eine Podiumsdiskussion mit Vertretern der Jugendorganisationen der Parteien CDU\, SPD\, Linke\, FDP und der Grünen zu aktuellen Themen. Auch wird es Zeit für Publikumsfragen geben.\nIes-vorstand@tu-chemnitz.de 
ORGANIZER:MAILTO:paula.kirchner@s2017.tu-chemnitz.de
UID:20625@www.tu-chemnitz.de
CREATED:20190502T203500Z
DTSTAMP:20210802T185616Z
END:VEVENT
END:VCALENDAR
