BEGIN:VCALENDAR
VERSION:2.0
PRODID:TU Chemnitz
METHOD:PUBLISH
X-WR-CALNAME:Veranstaltungen der TU Chemnitz
X-WR-TIMEZONE:Europe/Berlin
BEGIN:VEVENT
CLASS:PUBLIC
DTSTART;TZID="Europe/Berlin":20190424T120000
DTEND;TZID="Europe/Berlin":20190424T140000
LOCATION:Reichenhainer Str. 90\, Chemnitz (Zentr. Hörsaal- und Seminargebäude)
SUMMARY:Die vier Ökonomien Israels (TU Chemnitz\, Kultur- und Länderstudien Ostmitteleuropa)
DESCRIPTION:Unmittelbar nach den Parlamentswahlen in Israel vom 09.04. führt Prof. Dr. Dr. Matthias Theodor Vogt in das Zusammenleben so vieler unterschiedlicher Gruppen in einem Raum ein\, den Großbritannien vor 100 Jahren sowohl Arabern wie Juden versprochen hatte.\nProf. Dr. Dr. Matthias Theodor Vogt\, Hochschule Zittau/Görlitz\nJurek Wejwoda\, M.A.\, jurek.wejwoda@phil.tu-chemnitz.de
ORGANIZER:MAILTO:jurek.wejwoda@phil.tu-chemnitz.de
UID:20606@www.tu-chemnitz.de
CREATED:20190418T143700Z
DTSTAMP:20210802T185721Z
END:VEVENT
END:VCALENDAR
