BEGIN:VCALENDAR
VERSION:2.0
PRODID:TU Chemnitz
METHOD:PUBLISH
X-WR-CALNAME:Veranstaltungen der TU Chemnitz
X-WR-TIMEZONE:Europe/Berlin
BEGIN:VEVENT
CLASS:PUBLIC
DTSTART;TZID="Europe/Berlin":20190612T110000
DTEND;TZID="Europe/Berlin":20190612T150000
LOCATION:Career Service\, Dittesstraße 15\, Raum 401
SUMMARY:MS Word: Pimp your CV (Zentrum für Wissens- und Technologietransfer)
DESCRIPTION:MS Word offers many features to create an individual CV which is easy to read and well structured. In this workshop we will guide you through the Word program and help you preparing your own CV.\ncareer-service@tu-chemnitz.de
ORGANIZER:MAILTO:maria.hauschild@s2016.tu-chemnitz.de
UID:20592@www.tu-chemnitz.de
CREATED:20190412T112200Z
DTSTAMP:20210802T185521Z
END:VEVENT
END:VCALENDAR
