BEGIN:VCALENDAR
VERSION:2.0
PRODID:TU Chemnitz
METHOD:PUBLISH
X-WR-CALNAME:Veranstaltungen der TU Chemnitz
X-WR-TIMEZONE:Europe/Berlin
BEGIN:VEVENT
CLASS:PUBLIC
DTSTART;TZID="Europe/Berlin":20020225T203000
DTEND;TZID="Europe/Berlin":20020225T220000
LOCATION:Vettersstr. 64/66\, Chemnitz (Studentenwohnheim)
SUMMARY:bandamora live im Tanzkreis Chemnitz (Tanzkreis Chemnitz)
DESCRIPTION:
ORGANIZER:MAILTO:h.starkloff@mathematik.tu-chemnitz.de
UID:2059@www.tu-chemnitz.de
CREATED:20020131T155600Z
DTSTAMP:20210802T202559Z
END:VEVENT
END:VCALENDAR
