BEGIN:VCALENDAR
VERSION:2.0
PRODID:TU Chemnitz
METHOD:PUBLISH
X-WR-CALNAME:Veranstaltungen der TU Chemnitz
X-WR-TIMEZONE:Europe/Berlin
BEGIN:VEVENT
CLASS:PUBLIC
DTSTART;TZID="Europe/Berlin":20190522T103000
DTEND;TZID="Europe/Berlin":20190522T113000
LOCATION:Online-Webinar
SUMMARY:Im Bewerbungsgespräch überzeugen: Darauf solltest du vorbereitet sein (StepStone) (Zentrum für Wissens- und Technologietransfer)
DESCRIPTION:In diesem Online-Seminar geben wir dir Tipps\, wie du mit Persönlichkeit und Ehrlichkeit beim Kennenlernen mit deinem Wunscharbeitgeber überzeugst. Dazu gehören die häufigsten Fragen im Bewerbungsgespräch sowie Tipps zur optimalen Vorbereitung.\ncareer-service@tu-chemnitz.de
ORGANIZER:MAILTO:maria.hauschild@s2016.tu-chemnitz.de
UID:20582@www.tu-chemnitz.de
CREATED:20190412T104400Z
DTSTAMP:20210802T185614Z
END:VEVENT
END:VCALENDAR
