BEGIN:VCALENDAR
VERSION:2.0
PRODID:TU Chemnitz
METHOD:PUBLISH
X-WR-CALNAME:Veranstaltungen der TU Chemnitz
X-WR-TIMEZONE:Europe/Berlin
BEGIN:VEVENT
CLASS:PUBLIC
DTSTART;TZID="Europe/Berlin":20190425T210000
DTEND;TZID="Europe/Berlin":20190425T230000
LOCATION:Filmclub "mittendrin"\, Reichenhainer Str. 35/37\, Keller Mittelbau
SUMMARY:Kino: DER HIMMEL ÜBER BERLIN ("mittendrin" - das campuskino)
DESCRIPTION:Zum Tod von Bruno Ganz. Der legendäre Wim-Wenders-Film um zwei Engel\, die - auf die Erde zwangsversetzt - durch Berlin streifen\, die Menschen beobachten und begleiten und deren Gedanken lesen. Und einer verliebt sich ...\nfilmclub@tu-chemnitz.de
ORGANIZER:MAILTO:alena.sadowski@s2012.tu-chemnitz.de
UID:20575@www.tu-chemnitz.de
CREATED:20190410T224400Z
DTSTAMP:20210802T185731Z
END:VEVENT
END:VCALENDAR
