BEGIN:VCALENDAR
VERSION:2.0
PRODID:TU Chemnitz
METHOD:PUBLISH
X-WR-CALNAME:Veranstaltungen der TU Chemnitz
X-WR-TIMEZONE:Europe/Berlin
BEGIN:VEVENT
CLASS:PUBLIC
DTSTART;TZID="Europe/Berlin":20020923T090000
DTEND;TZID="Europe/Berlin":20020925T160000
LOCATION:Ehrenfriedersdorf bei Chemnitz
SUMMARY:Chemnitzer FEM Symposium 2002 (Fakultät für Mathematik\, SFB 393)
DESCRIPTION:Das internationale Symposium beschäftigt sich mit\naktuellen Fragen der Numerik und des Scientific Computing.\nhttp://www.tu-chemnitz.de/sfb393/fem-symposium/
ORGANIZER:MAILTO:gkunert@mathematik.tu-chemnitz.de
UID:2056@www.tu-chemnitz.de
CREATED:20020130T160200Z
DTSTAMP:20210802T202322Z
END:VEVENT
END:VCALENDAR
