BEGIN:VCALENDAR
VERSION:2.0
PRODID:TU Chemnitz
METHOD:PUBLISH
X-WR-CALNAME:Veranstaltungen der TU Chemnitz
X-WR-TIMEZONE:Europe/Berlin
BEGIN:VEVENT
CLASS:PUBLIC
DTSTART;TZID="Europe/Berlin":20191114T160000
DTEND;TZID="Europe/Berlin":20191114T180000
LOCATION:Str. der Nationen 62\, Chemnitz (Böttcher-Bau)
SUMMARY:GDCh-Kolloquium "Developing Oxidations on Petrochemical Scale: The HPPO Process" (Fakultät für Naturwissenschaften\, Institut für Chemie)
DESCRIPTION:Dr. Joaquim Henrique Teles\, Senior R&D Manager - Oxidations and Phosgene Chemistry\, BASF Ludwigshafen\nProf. Evgeny Kataev\, 0371/ 531 39841\, evgeny.kataev@chemie.tu-chemnitz.de
ORGANIZER:MAILTO:jeanette.doerr@chemie.tu-chemnitz.de
UID:20553@www.tu-chemnitz.de
CREATED:20190410T113300Z
DTSTAMP:20210802T184551Z
END:VEVENT
END:VCALENDAR
