BEGIN:VCALENDAR
VERSION:2.0
PRODID:TU Chemnitz
METHOD:PUBLISH
X-WR-CALNAME:Veranstaltungen der TU Chemnitz
X-WR-TIMEZONE:Europe/Berlin
BEGIN:VEVENT
CLASS:PUBLIC
DTSTART;TZID="Europe/Berlin":20190508T160000
DTEND;TZID="Europe/Berlin":20190508T173000
LOCATION:Reichenhainer Str. 90\, Chemnitz (Zentr. Hörsaal- und Seminargebäude)
SUMMARY:Physikalisches Kolloquium (Fakultät für Naturwissenschaften\, Institut für Physik)
DESCRIPTION:Thema: "Mikro- und nanomechanische Eigenschaften von einzelnen Kollagenfibrillen und kollagenreichem Gewebe"\nUniv.-Prof. DI Dr. Philipp J. Thurner (Institut für Leichtbau und Struktur-Biomechanik\, TU Wien)\nUniv.-Prof. Dr. R. Magerle (Tel.: 0371 531-38033\, Email: robert.magerle@physik.tu-chemnitz.de)
ORGANIZER:MAILTO:annku@hrz.tu-chemnitz.de
UID:20549@www.tu-chemnitz.de
CREATED:20190410T102400Z
DTSTAMP:20210802T185616Z
END:VEVENT
END:VCALENDAR
