BEGIN:VCALENDAR
VERSION:2.0
PRODID:TU Chemnitz
METHOD:PUBLISH
X-WR-CALNAME:Veranstaltungen der TU Chemnitz
X-WR-TIMEZONE:Europe/Berlin
BEGIN:VEVENT
CLASS:PUBLIC
DTSTART;TZID="Europe/Berlin":20190509T093000
DTEND;TZID="Europe/Berlin":20190509T160000
LOCATION:„Start up“-Gründerzentrum am Smart Systems Campus Technologie-Campus 1\, 09126 Chemnitz Raum 126
SUMMARY:Virtual Reality\, Augmented Reality – Technologien von morgen schon heute verstehen (TU Chemnitz)
DESCRIPTION:Der Workshop gibt einen Einstieg in die Möglichkeiten virtueller Technologien für die Produktentwicklung und die Kommunikation. Vorgestellt werden die Basistechnologien\, technologiebedingte Potentiale und der Aufwand bei der Erstellung dieser Formate.\nManuel Dudczig\nAnmeldung über die SAXEED-Website
ORGANIZER:MAILTO:linda.felber@s2015.tu-chemnitz.de
UID:20538@www.tu-chemnitz.de
CREATED:20190403T104000Z
DTSTAMP:20210802T185615Z
END:VEVENT
END:VCALENDAR
