BEGIN:VCALENDAR
VERSION:2.0
PRODID:TU Chemnitz
METHOD:PUBLISH
X-WR-CALNAME:Veranstaltungen der TU Chemnitz
X-WR-TIMEZONE:Europe/Berlin
BEGIN:VEVENT
CLASS:PUBLIC
DTSTART;TZID="Europe/Berlin":20190620T090000
DTEND;TZID="Europe/Berlin":20190620T170000
LOCATION:Pegasus-Center\, Chemnitz
SUMMARY:Think outside the Box – Kreativitätstechniken (TU Chemnitz)
DESCRIPTION:Sie müssen eine technische oder konstruktive Lösung für ein neues Produkt oder Verfahren finden und Ihr Lösungshorizont erscheint Ihnen auf bisherige Ideen und Ansätze beschränkt? Lassen Sie sich im Workshop mit neuen Denkansätzen unterstützen.\nManuel Dudczig\nAnmeldung über die SAXEED-Website: https://www.saxeed.net/termin/think-outside-the-box-kreativitaetstechniken
ORGANIZER:MAILTO:linda.felber@s2015.tu-chemnitz.de
UID:20530@www.tu-chemnitz.de
CREATED:20190403T102000Z
DTSTAMP:20210802T185515Z
END:VEVENT
END:VCALENDAR
