BEGIN:VCALENDAR
VERSION:2.0
PRODID:TU Chemnitz
METHOD:PUBLISH
X-WR-CALNAME:Veranstaltungen der TU Chemnitz
X-WR-TIMEZONE:Europe/Berlin
BEGIN:VEVENT
CLASS:PUBLIC
DTSTART;TZID="Europe/Berlin":20190515T090000
DTEND;TZID="Europe/Berlin":20190515T110000
LOCATION:
SUMMARY:Zettel & Stift vs. Tablet & Cloud (TU Chemnitz)
DESCRIPTION:Basisworkshop des Mittelstand 4.0-Kompetenzzentrum Chemnitz\nMittelstand 4.0-Kompetenzzentrum Chemnitz\nMarc Münnich Tel.: +49 (0) 371/ 5397 1770 E-Mail: marc.muennich@betrieb-machen.de
ORGANIZER:MAILTO:madeleine.dietrich@mb.tu-chemnitz.de
UID:20510@www.tu-chemnitz.de
CREATED:20190326T133000Z
DTSTAMP:20210802T185619Z
END:VEVENT
END:VCALENDAR
