BEGIN:VCALENDAR
VERSION:2.0
PRODID:TU Chemnitz
METHOD:PUBLISH
X-WR-CALNAME:Veranstaltungen der TU Chemnitz
X-WR-TIMEZONE:Europe/Berlin
BEGIN:VEVENT
CLASS:PUBLIC
DTSTART;TZID="Europe/Berlin":20190511T100000
DTEND;TZID="Europe/Berlin":20190511T180000
LOCATION:Reichenhainer Str. 90\, Chemnitz (Zentr. Hörsaal- und Seminargebäude)
SUMMARY:Börsentag Chemnitz (Studentischer Börsenverein Chemnitz e.V.)
DESCRIPTION:Der Börsentag Chemnitz ist die größte Messe für Finanzen und Geldanlage in der Region. Hier haben Privatanleger und Profis die Gelegenheit\, tief in die Finanzwelt einzutauchen und einen Überblick über das Marktgeschehen zu gewinnen.\nhttps://www.boersentag-chemnitz.de/anmeldung/ (w.schubert@boersentag-chemnitz.de)
ORGANIZER:MAILTO:finance@wirtschaft.tu-chemnitz.de
UID:20509@www.tu-chemnitz.de
CREATED:20190322T110100Z
DTSTAMP:20210802T185615Z
END:VEVENT
END:VCALENDAR
