BEGIN:VCALENDAR
VERSION:2.0
PRODID:TU Chemnitz
METHOD:PUBLISH
X-WR-CALNAME:Veranstaltungen der TU Chemnitz
X-WR-TIMEZONE:Europe/Berlin
BEGIN:VEVENT
CLASS:PUBLIC
DTSTART;TZID="Europe/Berlin":20190411T090000
DTEND;TZID="Europe/Berlin":20190411T130000
LOCATION:Str. der Nationen 62\, Chemnitz (Altes Heizhaus)
SUMMARY:Die EU-Markenrechtsreform und deren Auswirkungen für Deutschland (Universitätsbibliothek\, Patentinformationszentrum)
DESCRIPTION:Das Patentinformationszentrum Chemnitz veranstaltet anlässlich des Welttages des Geistigen Eigentums am 11.04.2019 eine Tagung im Rahmen einer Gemeinschaftsveranstaltung der sächsischen Patentinformationszentren in Chemnitz\, Dresden und Leipzig.\nDr. Silvio Heider\, 0371/531 - 13160\, piz@bibliothek.tu-chemnitz.de
ORGANIZER:MAILTO:silvio.heider@bibliothek.tu-chemnitz.de
UID:20432@www.tu-chemnitz.de
CREATED:20190225T133800Z
DTSTAMP:20210802T185722Z
END:VEVENT
END:VCALENDAR
