BEGIN:VCALENDAR
VERSION:2.0
PRODID:TU Chemnitz
METHOD:PUBLISH
X-WR-CALNAME:Veranstaltungen der TU Chemnitz
X-WR-TIMEZONE:Europe/Berlin
BEGIN:VEVENT
CLASS:PUBLIC
DTSTART;TZID="Europe/Berlin":20190417T140000
DTEND;TZID="Europe/Berlin":20190417T190000
LOCATION:Am Burgplatz 2\, 04109 Leipzig
SUMMARY:Design Thinking Workshop zum Thema New Work bei Salt and Pepper (Salt and Pepper)
DESCRIPTION:Du willst dich auf die Arbeitswelt der Zukunft vorbereiten und neue\, agile Methoden wie Design Thinking Schlüsselfunktionen erlernen? Dann melde dich für den Design Thinking Workshop an und erprobe diese Methode direkt beim Thema NEW WORK.\ninfo@salt-and-pepper.eu
ORGANIZER:MAILTO:maria.hauschild@s2016.tu-chemnitz.de
UID:20431@www.tu-chemnitz.de
CREATED:20190222T110200Z
DTSTAMP:20210802T185722Z
END:VEVENT
END:VCALENDAR
