BEGIN:VCALENDAR
VERSION:2.0
PRODID:TU Chemnitz
METHOD:PUBLISH
X-WR-CALNAME:Veranstaltungen der TU Chemnitz
X-WR-TIMEZONE:Europe/Berlin
BEGIN:VEVENT
CLASS:PUBLIC
DTSTART;TZID="Europe/Berlin":20190307T150000
DTEND;TZID="Europe/Berlin":20190307T180000
LOCATION:Erfenschlager Str. 73\, Chemnitz
SUMMARY:Von der Idee zur App – Teil 3/4: Wie komme ich vom Konzept zur App? Einfach selbst bauen! (TU Chemnitz)
DESCRIPTION:Fachworkshop des Mittelstand 4.0-Kompetenzzentrum Chemnitz\nMittelstand 4.0-Kompetenzzentrum Chemnitz\nMichael Wächter Tel.: +49 (0) 371 / 531 32423 E-Mail: michael.waechter@betrieb-machen.de
ORGANIZER:MAILTO:madeleine.dietrich@mb.tu-chemnitz.de
UID:20403@www.tu-chemnitz.de
CREATED:20190204T145200Z
DTSTAMP:20210802T185841Z
END:VEVENT
END:VCALENDAR
