BEGIN:VCALENDAR
VERSION:2.0
PRODID:TU Chemnitz
METHOD:PUBLISH
X-WR-CALNAME:Veranstaltungen der TU Chemnitz
X-WR-TIMEZONE:Europe/Berlin
BEGIN:VEVENT
CLASS:PUBLIC
DTSTART;TZID="Europe/Berlin":20190514T091500
DTEND;TZID="Europe/Berlin":20190514T123000
LOCATION:Str. der Nationen 62\, Chemnitz (Böttcher-Bau)
SUMMARY:LiT.Shortcut: Improving outcomes and increasing engagement through data-driven teaching (Hochschuldidaktisches Zentrum Sachsen)
DESCRIPTION:The methods discussed in this workshop can be readily adopted by others who wish to take a data-driven approach to improving not only students’ learning outcomes\, but also the teacher’s own instructional competence in content-rich courses.\nPrue Goredema (TU Chemnitz) \nlit@tu-chemnitz.de
ORGANIZER:MAILTO:sophie.reissner@verwaltung.tu-chemnitz.de
UID:20396@www.tu-chemnitz.de
CREATED:20190201T151600Z
DTSTAMP:20210802T185621Z
END:VEVENT
END:VCALENDAR
