BEGIN:VCALENDAR
VERSION:2.0
PRODID:TU Chemnitz
METHOD:PUBLISH
X-WR-CALNAME:Veranstaltungen der TU Chemnitz
X-WR-TIMEZONE:Europe/Berlin
BEGIN:VEVENT
CLASS:PUBLIC
DTSTART;TZID="Europe/Berlin":20190207T210000
DTEND;TZID="Europe/Berlin":20190207T230000
LOCATION:Filmclub "mittendrin"\, Reichenhainer Str. 35/37\, Keller Mittelbau
SUMMARY:Kino: GUNDERMANN ("mittendrin" - das campuskino)
DESCRIPTION:Einer wie keiner.\nEs ist einer der differenziertesten\, besten Filme über die DDR: Aus dem aufregend widersprüchlichen Leben des Liedermachers Gerhard Gundermann hat Andreas Dresen ein faszinierendes Porträt geschaffen... (spiegel.de)\n"mittendrin" - das campuskino\nfilmclub@tu-chemnitz.de
ORGANIZER:MAILTO:alena.sadowski@s2012.tu-chemnitz.de
UID:20379@www.tu-chemnitz.de
CREATED:20190127T150600Z
DTSTAMP:20210802T190044Z
END:VEVENT
END:VCALENDAR
