BEGIN:VCALENDAR
VERSION:2.0
PRODID:TU Chemnitz
METHOD:PUBLISH
X-WR-CALNAME:Veranstaltungen der TU Chemnitz
X-WR-TIMEZONE:Europe/Berlin
BEGIN:VEVENT
CLASS:PUBLIC
DTSTART;TZID="Europe/Berlin":20190206T170000
DTEND;TZID="Europe/Berlin":20190206T190000
LOCATION:„Start up“-Gründerzentrum am Smart Systems Campus Technologie-Campus 1\, 09126 Chemnitz Raum 126
SUMMARY:Informationsabend: Grow your business – Voraussetzungen für ein erfolgreiches Cash-Management  (Zentrum für Wissens- und Technologietransfer\, Gründernetzwerk SAXEED)
DESCRIPTION:Der Vortrag in Kooperation mit der Deutsche Bank AG informiert Sie  über die wichtigsten Basics. Mit welchen Zahlungsarten werden Käufer effektiv angesprochen? Wo liegen Unterschiede für sichere Zahlungen aus Ihrer und der Sicht des Käufers?\nSebastian Brüdgam\, Andreas Linke\nJette Petzold\, 0371 531 19994\, jette.petzold@saxeed.net\, 
ORGANIZER:MAILTO:jette.petzold@saxeed.net
UID:20368@www.tu-chemnitz.de
CREATED:20190117T131900Z
DTSTAMP:20210802T190040Z
END:VEVENT
END:VCALENDAR
