BEGIN:VCALENDAR
VERSION:2.0
PRODID:TU Chemnitz
METHOD:PUBLISH
X-WR-CALNAME:Veranstaltungen der TU Chemnitz
X-WR-TIMEZONE:Europe/Berlin
BEGIN:VEVENT
CLASS:PUBLIC
DTSTART;TZID="Europe/Berlin":20190124T210000
DTEND;TZID="Europe/Berlin":20190124T230000
LOCATION:Filmclub "mittendrin"\, Reichenhainer Str. 35/37\, Keller Mittelbau
SUMMARY:Kino: LEAVE NO TRACE ("mittendrin" - das campuskino)
DESCRIPTION:Ihr letzter Film machte aus Jennifer Lawrence einen Star - nun legt US-Regisseurin Debra Granik "Leave No Trace" vor: ein außergewöhnliches Vater-Tochter-Drama\, das hochpolitisch und versöhnlich zugleich ist. (spiegel.de)\n>> Rotten Tomatoes: 100% !! :)\nfilmlub@tu-chemnitz.de
ORGANIZER:MAILTO:alena.sadowski@s2012.tu-chemnitz.de
UID:20365@www.tu-chemnitz.de
CREATED:20190117T030600Z
DTSTAMP:20210802T190232Z
END:VEVENT
END:VCALENDAR
