BEGIN:VCALENDAR
VERSION:2.0
PRODID:TU Chemnitz
METHOD:PUBLISH
X-WR-CALNAME:Veranstaltungen der TU Chemnitz
X-WR-TIMEZONE:Europe/Berlin
BEGIN:VEVENT
CLASS:PUBLIC
DTSTART;TZID="Europe/Berlin":20190121T180000
DTEND;TZID="Europe/Berlin":20190121T210000
LOCATION:Club der Kulturen\, Thüringer Weg 3
SUMMARY:Medienforschung erleben III (TU Chemnitz\, Institut für Medienforschung)
DESCRIPTION:Nacht der Projektionen: Gemütlicher Abend mit Pecha Kucha Sessions und studentischen Filmbeiträgen (im Rahmen der Festwoche '25 Jahre Philosophische Fakultät').\nIngmar Rothe\, -31787\, ingmar.rothe@phil.tu-chemnitz.de
ORGANIZER:MAILTO:ingmar.rothe@phil.tu-chemnitz.de
UID:20360@www.tu-chemnitz.de
CREATED:20190115T202800Z
DTSTAMP:20210802T190224Z
END:VEVENT
END:VCALENDAR
