BEGIN:VCALENDAR
VERSION:2.0
PRODID:TU Chemnitz
METHOD:PUBLISH
X-WR-CALNAME:Veranstaltungen der TU Chemnitz
X-WR-TIMEZONE:Europe/Berlin
BEGIN:VEVENT
CLASS:PUBLIC
DTSTART;TZID="Europe/Berlin":20190120T103000
DTEND;TZID="Europe/Berlin":20190120T113000
LOCATION:Reichenhainer Str. 90\, Chemnitz (Zentr. Hörsaal- und Seminargebäude)
SUMMARY:Kinder-Uni: Warum uns Freundschaften so wichtig sind (Zentrum für Wissens- und Technologietransfer\, Kinder-Uni Chemnitz)
DESCRIPTION:Was bedeutet es eigentlich\, befreundet zu sein? Was stärkt Freundschaften? \n\nUnd was schadet ihnen?\nEine Vorlesung über die Bedeutung von Freundschaften.\nProf. Dr. Udo Rudolph\nBrita Stingl\, 36036\, kinderuni@tu-chemnitz.de
ORGANIZER:MAILTO:brita.stingl@verwaltung.tu-chemnitz.de
UID:20342@www.tu-chemnitz.de
CREATED:20190109T094000Z
DTSTAMP:20210802T190228Z
END:VEVENT
END:VCALENDAR
