BEGIN:VCALENDAR
VERSION:2.0
PRODID:TU Chemnitz
METHOD:PUBLISH
X-WR-CALNAME:Veranstaltungen der TU Chemnitz
X-WR-TIMEZONE:Europe/Berlin
BEGIN:VEVENT
CLASS:PUBLIC
DTSTART;TZID="Europe/Berlin":20190117T210000
DTEND;TZID="Europe/Berlin":20190117T230000
LOCATION:Filmclub "mittendrin"\, Reichenhainer Str. 35/37\, Keller Mittelbau
SUMMARY:Kino: THE FLORIDA PROJECT ("mittendrin" - das campuskino)
DESCRIPTION:Im Mittelpunkt steht eine Bande übermütiger Kinder am Rand der Gesellschaft. Sean Bakers White-Trash-Sozialstudie mit Willem Dafoe als mürrischem Motelmanger [Oscar-Nominierung für Beste Nebenrolle!] ist bunt und verspielt: Ein Geniestreich...\nfilmclub@tu-chemnitz.de
ORGANIZER:MAILTO:alena.sadowski@s2012.tu-chemnitz.de
UID:20330@www.tu-chemnitz.de
CREATED:20190106T144300Z
DTSTAMP:20210802T190227Z
END:VEVENT
END:VCALENDAR
