BEGIN:VCALENDAR
VERSION:2.0
PRODID:TU Chemnitz
METHOD:PUBLISH
X-WR-CALNAME:Veranstaltungen der TU Chemnitz
X-WR-TIMEZONE:Europe/Berlin
BEGIN:VEVENT
CLASS:PUBLIC
DTSTART;TZID="Europe/Berlin":20190115T150000
DTEND;TZID="Europe/Berlin":20190124T200000
LOCATION:TU Chemnitz
SUMMARY:Festwoche und Akademischer Festakt zu 25 Jahren Philosophische Fakultät (Philosophische Fakultät)
DESCRIPTION:Die Institute richten öffentliche Veranstaltungen an der TU und in der Stadt aus. Für die Anmeldung zum Festakt am 24.01.2019 nutzen Sie bitte das Formular unter www.tu-chemnitz.de/phil25\nanja.paessler@phil.tu-chemnitz.de
ORGANIZER:MAILTO:anja.paessler@phil.tu-chemnitz.de
UID:20320@www.tu-chemnitz.de
CREATED:20181221T124700Z
DTSTAMP:20210802T190230Z
END:VEVENT
END:VCALENDAR
