BEGIN:VCALENDAR
VERSION:2.0
PRODID:TU Chemnitz
METHOD:PUBLISH
X-WR-CALNAME:Veranstaltungen der TU Chemnitz
X-WR-TIMEZONE:Europe/Berlin
BEGIN:VEVENT
CLASS:PUBLIC
DTSTART;TZID="Europe/Berlin":20020410T203000
DTEND;TZID="Europe/Berlin":20020411T030000
LOCATION:Reichenhainer Str. 55\, Chemnitz (Mensa)
SUMMARY:Semestereröffnungsparty (FSR WiWi)
DESCRIPTION:\nNach den Ferien wieder alle Leute treffen!\n\nEs legen DJ Rol und DJ David auf!\n\n21.30 Uhr Freibier!\n\nEintritt: nur 1€\nKartenvorverkauf: Büro des FSR WiWi (RH41/003)\n\nDer Fachschaftsrat hilft!\n\n\nfsrwiwi@tu-chemnitz.de
ORGANIZER:MAILTO:marck@hrz.tu-chemnitz.de
UID:2027@www.tu-chemnitz.de
CREATED:20020117T110200Z
DTSTAMP:20210802T202507Z
END:VEVENT
END:VCALENDAR
