BEGIN:VCALENDAR
VERSION:2.0
PRODID:TU Chemnitz
METHOD:PUBLISH
X-WR-CALNAME:Veranstaltungen der TU Chemnitz
X-WR-TIMEZONE:Europe/Berlin
BEGIN:VEVENT
CLASS:PUBLIC
DTSTART;TZID="Europe/Berlin":20190507T100000
DTEND;TZID="Europe/Berlin":20190507T160000
LOCATION:Reichenhainer Str. 90\, Chemnitz (Zentr. Hörsaal- und Seminargebäude)
SUMMARY:Frühjahrs-Karrieremesse TUConnect (Career Service)
DESCRIPTION:Triff zahlreiche Arbeitgeber und informiere dich über Einstiegs- und Karrieremöglichkeiten. Besondere Highlights sind die kostenlosen Bewerbungsunterlagen-Checks\, das professionelle Bewerbungsfoto-Shooting und die Jobwalls.\nCareer Service\, 0371 531-19 930\, career-service@tu-chemnitz.de
ORGANIZER:MAILTO:anja.krumbiegel@wirtschaft.tu-chemnitz.de
UID:20267@www.tu-chemnitz.de
CREATED:20181213T093700Z
DTSTAMP:20210802T185618Z
END:VEVENT
END:VCALENDAR
