BEGIN:VCALENDAR
VERSION:2.0
PRODID:TU Chemnitz
METHOD:PUBLISH
X-WR-CALNAME:Veranstaltungen der TU Chemnitz
X-WR-TIMEZONE:Europe/Berlin
BEGIN:VEVENT
CLASS:PUBLIC
DTSTART;TZID="Europe/Berlin":20190111T140000
DTEND;TZID="Europe/Berlin":20190111T150000
LOCATION:Club der Kulturen CdK\, Thüringer Weg 3
SUMMARY:Talk it out: The library\, your second home (Studentenwerk\, UB\, TU4U\, Academic Integration\, Kulturcampus)
DESCRIPTION:You want to get to know your second home during the semester? You don't want to wait for a free computer? How to become comfortable in the library – and any other questions you might have. Let‘s talk it out!\nCarolin Ahnert\nCarolin Ahnert\, 0371/531 - 31989\, carolin.ahnert@bibliothek.tu-chemnitz.de
ORGANIZER:MAILTO:carolin.ahnert@bibliothek.tu-chemnitz.de
UID:20258@www.tu-chemnitz.de
CREATED:20181211T115100Z
DTSTAMP:20210802T190233Z
END:VEVENT
END:VCALENDAR
