BEGIN:VCALENDAR
VERSION:2.0
PRODID:TU Chemnitz
METHOD:PUBLISH
X-WR-CALNAME:Veranstaltungen der TU Chemnitz
X-WR-TIMEZONE:Europe/Berlin
BEGIN:VEVENT
CLASS:PUBLIC
DTSTART;TZID="Europe/Berlin":20020129T181500
DTEND;TZID="Europe/Berlin":20020129T213000
LOCATION:Reichenhainer Str. 70\, Chemnitz (Zentr. Hörsaal- und Seminargebäude)
SUMMARY:Probleme des Ehe- und Familien- sowie des Erbrechts (Fakultät für Wirtschaftswissenschaften\,  Professur für Handels-\, Gesellschafts- und Wirtschaftsrecht)
DESCRIPTION:Prof. Dr. Claus Scholl\nöffentliche Vorlesung - keine Anmeldung erfolderlich
ORGANIZER:MAILTO:ykr@hrz.tu-chemnitz.de
UID:2025@www.tu-chemnitz.de
CREATED:20020114T152400Z
DTSTAMP:20210802T202612Z
END:VEVENT
END:VCALENDAR
