BEGIN:VCALENDAR
VERSION:2.0
PRODID:TU Chemnitz
METHOD:PUBLISH
X-WR-CALNAME:Veranstaltungen der TU Chemnitz
X-WR-TIMEZONE:Europe/Berlin
BEGIN:VEVENT
CLASS:PUBLIC
DTSTART;VALUE=DATE:20190304
DTEND;VALUE=DATE:20190308
LOCATION:Reichenhainer Str. 39\, Chemnitz
SUMMARY:MTEX Workshop 2019 (Fakultät für Mathematik\, Professur für Angewandte Funktionalanalysis)
DESCRIPTION:Annual user meeting for the crystallographic texture analysis toolbox MTEX. Main focus this year is on plastic deformations and texture evolution.\nB. Britton\, R.Hielscher\, R. Kilian\, D. Mainprice\nRalf.Hielscher@mathematik.tu-chemnitz.de
ORGANIZER:MAILTO:ralf.hielscher@mathematik.tu-chemnitz.de
UID:20247@www.tu-chemnitz.de
CREATED:20181204T110600Z
DTSTAMP:20210802T185843Z
END:VEVENT
END:VCALENDAR
