BEGIN:VCALENDAR
VERSION:2.0
PRODID:TU Chemnitz
METHOD:PUBLISH
X-WR-CALNAME:Veranstaltungen der TU Chemnitz
X-WR-TIMEZONE:Europe/Berlin
BEGIN:VEVENT
CLASS:PUBLIC
DTSTART;TZID="Europe/Berlin":20190130T140000
DTEND;TZID="Europe/Berlin":20190130T173000
LOCATION:
SUMMARY:Tablet\, Datenbrille\, Miniscanner – Logistik 4.0 für KMU! (TU Chemnitz)
DESCRIPTION:Thementag des Mittelstand 4.0-Kompetenzzentrum Chemnitz\nMittelstand 4.0-Kompetenzzentrum Chemnitz\nHans-Eberhard Jung Tel.:+49 (0) 371 / 90 949 39 E-Mail: hans-eberhard.jung@betrieb-machen.de
ORGANIZER:MAILTO:madeleine.dietrich@mb.tu-chemnitz.de
UID:20231@www.tu-chemnitz.de
CREATED:20181126T141600Z
DTSTAMP:20210802T190229Z
END:VEVENT
END:VCALENDAR
