BEGIN:VCALENDAR
VERSION:2.0
PRODID:TU Chemnitz
METHOD:PUBLISH
X-WR-CALNAME:Veranstaltungen der TU Chemnitz
X-WR-TIMEZONE:Europe/Berlin
BEGIN:VEVENT
CLASS:PUBLIC
DTSTART;TZID="Europe/Berlin":20020312T163000
DTEND;TZID="Europe/Berlin":20020312T163000
LOCATION:CeWOTec (vormals IPMT) Lassallestr. 14\, 09117 Chemnitz
SUMMARY:1."Umweltmanagement - ein Beitrag zur erfolgreichen Unternehmensentwicklung" 2. "Ökologisch - ökonomische Aspekte der Wärmebehandlung" (TU Chemnitz\, Professur Werkstoffe des Maschinenbaus\, AWT/VDI-W Arbeitskreis Wärmebehandlung und Werkstofftechnik Chemnitz)
DESCRIPTION:1. Dipl.-Ing. R. Bruchhof (Prof. Sadowskij & Partner Zwickau)\, 2. Dipl.-Ing. J. Klix (Gaggenau)\nDipl.-Ing. Ulrich Thieme\, Tel. 3363222
ORGANIZER:MAILTO:iroe@hrz.tu-chemnitz.de
UID:2023@www.tu-chemnitz.de
CREATED:20020114T142700Z
DTSTAMP:20210802T202539Z
END:VEVENT
END:VCALENDAR
