BEGIN:VCALENDAR
VERSION:2.0
PRODID:TU Chemnitz
METHOD:PUBLISH
X-WR-CALNAME:Veranstaltungen der TU Chemnitz
X-WR-TIMEZONE:Europe/Berlin
BEGIN:VEVENT
CLASS:PUBLIC
DTSTART;TZID="Europe/Berlin":20181212T160000
DTEND;TZID="Europe/Berlin":20181212T173000
LOCATION:Reichenhainer Str. 90\, Chemnitz (Zentr. Hörsaal- und Seminargebäude)
SUMMARY:Physikalisches Kolloquium (Fakultät für Naturwissenschaften\, Institut für Physik)
DESCRIPTION:Thema: "Plasmons in low dimensions: prospects and challenges"\nProf. Dr. Herbert Pfnür (Leibniz Universität Hannover)\nProf. Dr. Christoph Tegenkamp (Tel: 0371 531 33103\, Email: christoph.tegenkamp@physik.tu-chemnitz.de)
ORGANIZER:MAILTO:annku@hrz.tu-chemnitz.de
UID:20209@www.tu-chemnitz.de
CREATED:20181120T082300Z
DTSTAMP:20210802T190337Z
END:VEVENT
END:VCALENDAR
