BEGIN:VCALENDAR
VERSION:2.0
PRODID:TU Chemnitz
METHOD:PUBLISH
X-WR-CALNAME:Veranstaltungen der TU Chemnitz
X-WR-TIMEZONE:Europe/Berlin
BEGIN:VEVENT
CLASS:PUBLIC
DTSTART;TZID="Europe/Berlin":20181129T140000
DTEND;TZID="Europe/Berlin":20181129T160000
LOCATION:ZLB\, Carolastraße 4-6\, Lernwerkstatt
SUMMARY:Es weihnachtet am ZLB - Wir drucken Plätzchenformen mit dem 3D-Drucker (Zentrum für Lehrerbildung\, GSD Mathematik)
DESCRIPTION:Wie kann man Gegenstände am Computer zeichnen und danach mit dem 3D-Drucker ausdrucken? Und wie kann man die Thematik für die Grundschule aufarbeiten? Mit weihnachtlichem Kontext gehen wir dieser Frage nach.\nAnmeldung: lernwerkstatt@zlb.tu-chemnitz.de\nlernwerkstatt@zlb.tu-chemnitz.de
ORGANIZER:MAILTO:leena.broell@zlb.tu-chemnitz.de
UID:20204@www.tu-chemnitz.de
CREATED:20181117T201400Z
DTSTAMP:20210802T190424Z
END:VEVENT
END:VCALENDAR
