BEGIN:VCALENDAR
VERSION:2.0
PRODID:TU Chemnitz
METHOD:PUBLISH
X-WR-CALNAME:Veranstaltungen der TU Chemnitz
X-WR-TIMEZONE:Europe/Berlin
BEGIN:VEVENT
CLASS:PUBLIC
DTSTART;TZID="Europe/Berlin":20181129T140000
DTEND;TZID="Europe/Berlin":20181129T153000
LOCATION: Reichenhainer Str. 70\, Gebäude M
SUMMARY:"Study in China": IEC Infoveranstaltung (Philosophische Fakultät\, Professur für Anglistische Literaturwissenschaft)
DESCRIPTION:Bei dem IEC-Infovortrag im Rahmen der "Studientage China" erfahren Sie alles Wissenswerte zum Auslandssemester als Freemover weltweit und erhalten Informationen zur Bewerbung\, Finanzierung und Studienangeboten.\nRobert van Kan (Fudan University\, Shanghai)\nMandy Beck\, 0371/531 34445\, mandy.beck@phil.tu-chemnitz.de
ORGANIZER:MAILTO:mandy.beck@phil.tu-chemnitz.de
UID:20197@www.tu-chemnitz.de
CREATED:20181114T104800Z
DTSTAMP:20210802T190432Z
END:VEVENT
END:VCALENDAR
