BEGIN:VCALENDAR
VERSION:2.0
PRODID:TU Chemnitz
METHOD:PUBLISH
X-WR-CALNAME:Veranstaltungen der TU Chemnitz
X-WR-TIMEZONE:Europe/Berlin
BEGIN:VEVENT
CLASS:PUBLIC
DTSTART;TZID="Europe/Berlin":20190404T160000
DTEND;TZID="Europe/Berlin":20190404T180000
LOCATION:Str. der Nationen 62\, Chemnitz (Böttcher-Bau)
SUMMARY:GDCh-Kolloquium - From Photoinduced Multi-Electron Transfer to New Photoactive Metal Complexes (Fakultät für Naturwissenschaften\, Institut für Chemie)
DESCRIPTION:Prof. Dr. Oliver S. Wenger\, Department of Chemistry\, University of Basel\, Switzerland\nProf. Evgeny Kataev\, 0371/ 531 39841\, evgeny.kataev@chemie.tu-chemnitz.de
ORGANIZER:MAILTO:jeanette.doerr@chemie.tu-chemnitz.de
UID:20194@www.tu-chemnitz.de
CREATED:20181113T071600Z
DTSTAMP:20210802T185725Z
END:VEVENT
END:VCALENDAR
