BEGIN:VCALENDAR
VERSION:2.0
PRODID:TU Chemnitz
METHOD:PUBLISH
X-WR-CALNAME:Veranstaltungen der TU Chemnitz
X-WR-TIMEZONE:Europe/Berlin
BEGIN:VEVENT
CLASS:PUBLIC
DTSTART;TZID="Europe/Berlin":20181129T090000
DTEND;TZID="Europe/Berlin":20181129T120000
LOCATION:Str. der Nationen 62\, Chemnitz (Böttcher-Bau)
SUMMARY:Origin-Workshop (Universitätsrechenzentrum)
DESCRIPTION:Neue Funktionen in Origin 2019\,  Hands-On-Workshop: Origin Basics (Importassistent\, Datenanalyse\, Export der Ergebnisse)\, Hands-On-Workshop: Statistik mit Origin und OriginPro\, Origin Apps\nDr. Kai Gansel (ADDITIVE GmbH)\nAnmeldung über OPAL: https://mytuc.org/gnsq
ORGANIZER:MAILTO:antje.schreiber@hrz.tu-chemnitz.de
UID:20193@www.tu-chemnitz.de
CREATED:20181112T110300Z
DTSTAMP:20210802T190434Z
END:VEVENT
END:VCALENDAR
